BEGIN:VCALENDAR
VERSION:2.0
PRODID:-//Reformed Forum - ECPv6.15.20//NONSGML v1.0//EN
CALSCALE:GREGORIAN
METHOD:PUBLISH
X-WR-CALNAME:Reformed Forum
X-ORIGINAL-URL:https://reformedforum.org
X-WR-CALDESC:Events for Reformed Forum
REFRESH-INTERVAL;VALUE=DURATION:PT1H
X-Robots-Tag:noindex
X-PUBLISHED-TTL:PT1H
BEGIN:VTIMEZONE
TZID:America/Chicago
BEGIN:DAYLIGHT
TZOFFSETFROM:-0600
TZOFFSETTO:-0500
TZNAME:CDT
DTSTART:20240310T080000
END:DAYLIGHT
BEGIN:STANDARD
TZOFFSETFROM:-0500
TZOFFSETTO:-0600
TZNAME:CST
DTSTART:20241103T070000
END:STANDARD
BEGIN:DAYLIGHT
TZOFFSETFROM:-0600
TZOFFSETTO:-0500
TZNAME:CDT
DTSTART:20250309T080000
END:DAYLIGHT
BEGIN:STANDARD
TZOFFSETFROM:-0500
TZOFFSETTO:-0600
TZNAME:CST
DTSTART:20251102T070000
END:STANDARD
BEGIN:DAYLIGHT
TZOFFSETFROM:-0600
TZOFFSETTO:-0500
TZNAME:CDT
DTSTART:20260308T080000
END:DAYLIGHT
BEGIN:STANDARD
TZOFFSETFROM:-0500
TZOFFSETTO:-0600
TZNAME:CST
DTSTART:20261101T070000
END:STANDARD
END:VTIMEZONE
BEGIN:VEVENT
DTSTART;VALUE=DATE:20250311
DTEND;VALUE=DATE:20250314
DTSTAMP:20260425T150220
CREATED:20241003T162914Z
LAST-MODIFIED:20241003T164302Z
UID:45681-1741651200-1741910399@reformedforum.org
SUMMARY:GPTS 2025 Confessional Conference
DESCRIPTION:Carlton Wynne will deliver a plenary address at the Greenville Presbyterian Theological Seminary Confessional Conference at Heritage Bible Church in Greer\, SC. The conference theme will be “The Pastor: His Call\, Character\, and Work.” \n 
URL:https://reformedforum.org/event/gpts-2025-confessional-conference/
LOCATION:Heritage Bible Church\, 2005 Old Spartanburg Rd\, Greer\, SC\, 29651\, United States
CATEGORIES:Conference
ATTACH;FMTTYPE=image/jpeg:https://reformedforum.org/wp-content/blogs.dir/1/files/2024/10/https___cdn.evbuc_.com_images_811016519_1568036796873_1_original.jpeg
END:VEVENT
END:VCALENDAR