BEGIN:VCALENDAR
VERSION:2.0
PRODID:-//Reformed Forum - ECPv6.15.20//NONSGML v1.0//EN
CALSCALE:GREGORIAN
METHOD:PUBLISH
X-ORIGINAL-URL:https://reformedforum.org
X-WR-CALDESC:Events for Reformed Forum
REFRESH-INTERVAL;VALUE=DURATION:PT1H
X-Robots-Tag:noindex
X-PUBLISHED-TTL:PT1H
BEGIN:VTIMEZONE
TZID:America/Chicago
BEGIN:DAYLIGHT
TZOFFSETFROM:-0600
TZOFFSETTO:-0500
TZNAME:CDT
DTSTART:20230312T080000
END:DAYLIGHT
BEGIN:STANDARD
TZOFFSETFROM:-0500
TZOFFSETTO:-0600
TZNAME:CST
DTSTART:20231105T070000
END:STANDARD
BEGIN:DAYLIGHT
TZOFFSETFROM:-0600
TZOFFSETTO:-0500
TZNAME:CDT
DTSTART:20240310T080000
END:DAYLIGHT
BEGIN:STANDARD
TZOFFSETFROM:-0500
TZOFFSETTO:-0600
TZNAME:CST
DTSTART:20241103T070000
END:STANDARD
BEGIN:DAYLIGHT
TZOFFSETFROM:-0600
TZOFFSETTO:-0500
TZNAME:CDT
DTSTART:20250309T080000
END:DAYLIGHT
BEGIN:STANDARD
TZOFFSETFROM:-0500
TZOFFSETTO:-0600
TZNAME:CST
DTSTART:20251102T070000
END:STANDARD
END:VTIMEZONE
BEGIN:VEVENT
DTSTART;TZID=America/Chicago:20241018T190000
DTEND;TZID=America/Chicago:20241018T210000
DTSTAMP:20260425T052631
CREATED:20241016T170421Z
LAST-MODIFIED:20241016T170421Z
UID:45925-1729278000-1729285200@reformedforum.org
SUMMARY:Ordination and Installation Service
DESCRIPTION:Jim Cassidy will be speaking at the ordination and installation of Mr. David Wright to the office of minister of the gospel to serve as an evangelist at Westminster Church (OPC).
URL:https://reformedforum.org/event/ordination-and-installation-service/
LOCATION:Westminster Church (OPC)\, 6455 Joliet Road\, Countryside\, IL\, 60525\, United States
CATEGORIES:Worship Service
ATTACH;FMTTYPE=image/png:https://reformedforum.org/wp-content/blogs.dir/1/files/2012/08/pulpit_bible.png
END:VEVENT
END:VCALENDAR