BEGIN:VCALENDAR
VERSION:2.0
PRODID:-//Reformed Forum - ECPv6.15.20//NONSGML v1.0//EN
CALSCALE:GREGORIAN
METHOD:PUBLISH
X-WR-CALNAME:Reformed Forum
X-ORIGINAL-URL:https://reformedforum.org
X-WR-CALDESC:Events for Reformed Forum
REFRESH-INTERVAL;VALUE=DURATION:PT1H
X-Robots-Tag:noindex
X-PUBLISHED-TTL:PT1H
BEGIN:VTIMEZONE
TZID:America/Chicago
BEGIN:DAYLIGHT
TZOFFSETFROM:-0600
TZOFFSETTO:-0500
TZNAME:CDT
DTSTART:20230312T080000
END:DAYLIGHT
BEGIN:STANDARD
TZOFFSETFROM:-0500
TZOFFSETTO:-0600
TZNAME:CST
DTSTART:20231105T070000
END:STANDARD
BEGIN:DAYLIGHT
TZOFFSETFROM:-0600
TZOFFSETTO:-0500
TZNAME:CDT
DTSTART:20240310T080000
END:DAYLIGHT
BEGIN:STANDARD
TZOFFSETFROM:-0500
TZOFFSETTO:-0600
TZNAME:CST
DTSTART:20241103T070000
END:STANDARD
BEGIN:DAYLIGHT
TZOFFSETFROM:-0600
TZOFFSETTO:-0500
TZNAME:CDT
DTSTART:20250309T080000
END:DAYLIGHT
BEGIN:STANDARD
TZOFFSETFROM:-0500
TZOFFSETTO:-0600
TZNAME:CST
DTSTART:20251102T070000
END:STANDARD
END:VTIMEZONE
BEGIN:VTIMEZONE
TZID:America/New_York
BEGIN:DAYLIGHT
TZOFFSETFROM:-0500
TZOFFSETTO:-0400
TZNAME:EDT
DTSTART:20230312T070000
END:DAYLIGHT
BEGIN:STANDARD
TZOFFSETFROM:-0400
TZOFFSETTO:-0500
TZNAME:EST
DTSTART:20231105T060000
END:STANDARD
BEGIN:DAYLIGHT
TZOFFSETFROM:-0500
TZOFFSETTO:-0400
TZNAME:EDT
DTSTART:20240310T070000
END:DAYLIGHT
BEGIN:STANDARD
TZOFFSETFROM:-0400
TZOFFSETTO:-0500
TZNAME:EST
DTSTART:20241103T060000
END:STANDARD
BEGIN:DAYLIGHT
TZOFFSETFROM:-0500
TZOFFSETTO:-0400
TZNAME:EDT
DTSTART:20250309T070000
END:DAYLIGHT
BEGIN:STANDARD
TZOFFSETFROM:-0400
TZOFFSETTO:-0500
TZNAME:EST
DTSTART:20251102T060000
END:STANDARD
END:VTIMEZONE
BEGIN:VEVENT
DTSTART;VALUE=DATE:20241210
DTEND;VALUE=DATE:20241214
DTSTAMP:20260419T200649
CREATED:20241002T165403Z
LAST-MODIFIED:20241105T202513Z
UID:45672-1733788800-1734134399@reformedforum.org
SUMMARY:Conferencia El Futuro de la Apologética Presuposicional
DESCRIPTION:Lane Tipton will speak at an apologetics conference in Bogotá\, Colombia\, addressing the theme\, “El Futuro de la Apologética Presuposicional.”
URL:https://reformedforum.org/event/conferencia-el-futuro-de-la-apologetica-presuposicional/
LOCATION:Iglesia Cristiana Biblica Raah\, Av. Boyacá 99-14\, Bogotá\, Colombia
CATEGORIES:Conference
ATTACH;FMTTYPE=image/jpeg:https://reformedforum.org/wp-content/blogs.dir/1/files/2024/10/lane_presupp_conference_colombia.jpg
END:VEVENT
BEGIN:VEVENT
DTSTART;TZID=America/Chicago:20241205T180000
DTEND;TZID=America/Chicago:20241205T210000
DTSTAMP:20260419T200649
CREATED:20241104T161109Z
LAST-MODIFIED:20241202T201900Z
UID:46078-1733421600-1733432400@reformedforum.org
SUMMARY:Dallas Area Meetup
DESCRIPTION:We’re excited to invite you to a Reformed Forum meetup at Lockwood Distilling Co. in Richardson\, Texas (just outside Dallas) on Thursday\, December 5\, from 6–9 PM. \nThis informal\, come-and-go gathering is a great opportunity to connect with fellow listeners\, supporters\, and friends of Reformed Forum in a relaxed and welcoming setting. We’ll be enjoying Lockwood’s covered patio (with space heaters to keep us warm)\, where you can grab a drink or bite to eat and join the conversation. \nDetails:\n📍 Lockwood Distilling Co.\n🔗 Location & Directions\n🗓️ Thursday\, December 5\n⏰ 6:00–9:00 PM\n💳 Pay-your-own-way \nWhether you’re a long-time listener or new to Reformed Forum\, we’d love to see you there! This is an excellent chance to share fellowship\, talk theology\, and enjoy good food and drink with like-minded believers. Please RSVP if you plan to attend: \n\n	Notice: JavaScript is required for this content.\n\n\n    \n\n\n        \n        \n        \n\n\n\n\n\n\n\n\n\n\n        \n\n        \n\n        \nFeel free to spread the word and bring a friend! If you have any questions\, don’t hesitate to reach out. \nWe’re looking forward to seeing you in Richardson!
URL:https://reformedforum.org/event/dallas-meetup/
LOCATION:Lockwood Distilling Co.\, 506 Lockwood Dr.\, Richardson\, TX\, 75080\, United States
CATEGORIES:Meetup
ATTACH;FMTTYPE=image/jpeg:https://reformedforum.org/wp-content/blogs.dir/1/files/2024/11/dallas.jpeg
END:VEVENT
BEGIN:VEVENT
DTSTART;VALUE=DATE:20241022
DTEND;VALUE=DATE:20241024
DTSTAMP:20260419T200649
CREATED:20241002T163255Z
LAST-MODIFIED:20241002T164100Z
UID:45668-1729555200-1729727999@reformedforum.org
SUMMARY:Presbyterian Scholars Conference
DESCRIPTION:Camden Bucey will participate in a panel discussion of Richard Burnett’s Machen’s Hope: The Transformation of a Modernist in the New Princeton. The conference will be held at Harbor House on the campus of Wheaton College\, Wheaton\, IL.
URL:https://reformedforum.org/event/presbyterian-scholars-conference/
LOCATION:Harbor House\, 510 N Washington St\, Wheaton\, IL\, 60187\, United States
CATEGORIES:Conference
ATTACH;FMTTYPE=image/jpeg:https://reformedforum.org/wp-content/blogs.dir/1/files/2017/06/jgreshammachen.jpg
END:VEVENT
BEGIN:VEVENT
DTSTART;TZID=America/Chicago:20241018T190000
DTEND;TZID=America/Chicago:20241018T210000
DTSTAMP:20260419T200649
CREATED:20241016T170421Z
LAST-MODIFIED:20241016T170421Z
UID:45925-1729278000-1729285200@reformedforum.org
SUMMARY:Ordination and Installation Service
DESCRIPTION:Jim Cassidy will be speaking at the ordination and installation of Mr. David Wright to the office of minister of the gospel to serve as an evangelist at Westminster Church (OPC).
URL:https://reformedforum.org/event/ordination-and-installation-service/
LOCATION:Westminster Church (OPC)\, 6455 Joliet Road\, Countryside\, IL\, 60525\, United States
CATEGORIES:Worship Service
ATTACH;FMTTYPE=image/png:https://reformedforum.org/wp-content/blogs.dir/1/files/2012/08/pulpit_bible.png
END:VEVENT
BEGIN:VEVENT
DTSTART;VALUE=DATE:20241011
DTEND;VALUE=DATE:20241013
DTSTAMP:20260419T200649
CREATED:20241002T162505Z
LAST-MODIFIED:20241002T162505Z
UID:45665-1728604800-1728777599@reformedforum.org
SUMMARY:Center for Missions and Evangelism National Conference
DESCRIPTION:Ryan Noha will exhibit at Mid-America Reformed Seminary’s Center for Missions and Evangelism National Conference in Lansing\, IL. The conference theme will be\, “Neighbors and Nations: Spreading the Gospel Far and Near.”
URL:https://reformedforum.org/event/center-for-missions-and-evangelism-national-conference/
LOCATION:Bethel Church\, 3500 Glenwood Lansing Rd\, Lansing\, IL\, 60438\, United States
CATEGORIES:Conference
ATTACH;FMTTYPE=image/png:https://reformedforum.org/wp-content/blogs.dir/1/files/2024/10/45f3b9fa-2c25-4d7e-8e89-4ca928bf61d9.png
END:VEVENT
BEGIN:VEVENT
DTSTART;VALUE=DATE:20241008
DTEND;VALUE=DATE:20241011
DTSTAMP:20260419T200649
CREATED:20241002T161430Z
LAST-MODIFIED:20241002T161818Z
UID:45662-1728345600-1728604799@reformedforum.org
SUMMARY:Banner of Truth West Coast Ministers' Conference
DESCRIPTION:Carlton Wynne will speak at the Banner of Truth West Coast Ministers’ Conference in Fulton\, CA. The conference theme will be\, “What is Man? Responding to Contemporary Challenges.”
URL:https://reformedforum.org/event/banner-of-truth-west-coast-ministers-conference/
LOCATION:Mount Hermon\, 37 Conference Drive\, Felton\, CA\, 95018\, United States
CATEGORIES:Conference
ATTACH;FMTTYPE=image/png:https://reformedforum.org/wp-content/blogs.dir/1/files/2024/10/Screenshot-2024-10-02-at-11.08.51 AM-e1727885884556.png
END:VEVENT
BEGIN:VEVENT
DTSTART;TZID=America/Chicago:20240928T080000
DTEND;TZID=America/Chicago:20240928T160000
DTSTAMP:20260419T200649
CREATED:20240808T192139Z
LAST-MODIFIED:20240808T192851Z
UID:45050-1727510400-1727539200@reformedforum.org
SUMMARY:2024 Annual Theology Conference
DESCRIPTION:Join us at Hope OPC in Grayslake\, Illinois for our annual theology conference. Our theme this year is “Ordinary Means\, Extraordinary Ends: Word\, Sacrament and the Great Commission.”
URL:https://reformedforum.org/event/2024-annual-theology-conference/
LOCATION:CO
CATEGORIES:Conference
ATTACH;FMTTYPE=image/jpeg:https://reformedforum.org/wp-content/blogs.dir/1/files/2024/05/RF-Conf_24-16x9-title-date-scaled.jpg
END:VEVENT
BEGIN:VEVENT
DTSTART;TZID=America/Chicago:20240927T180000
DTEND;TZID=America/Chicago:20240927T210000
DTSTAMP:20260419T200649
CREATED:20240816T155749Z
LAST-MODIFIED:20240816T160053Z
UID:45127-1727460000-1727470800@reformedforum.org
SUMMARY:2024 Annual Pre-Conference Event
DESCRIPTION:Join us for our annual pre-conference event on Friday\, September 27\, 2024\, from 6–9pm. It will be held at The Vine\, 101 Center St. Grayslake\, IL 60030. \nAppetizers will be provided and guests are welcome to order drinks or dinner on their own tab. Tickets are limited.
URL:https://reformedforum.org/event/2024-annual-pre-conference-event/
LOCATION:The Vine\, 101 Center St.\, Grayslake\, IL\, 60030\, United States
CATEGORIES:Meetup
ATTACH;FMTTYPE=image/webp:https://reformedforum.org/wp-content/blogs.dir/1/files/2024/08/the_vine_buffet.webp
END:VEVENT
BEGIN:VEVENT
DTSTART;TZID=America/New_York:20240911T190000
DTEND;TZID=America/New_York:20240911T210000
DTSTAMP:20260419T200649
CREATED:20240820T153356Z
LAST-MODIFIED:20240905T173459Z
UID:45145-1726081200-1726088400@reformedforum.org
SUMMARY:Philadelphia-Area Meetup
DESCRIPTION:Join us for a laid-back evening at Union Jack’s Olde Glory Pub in Glenside\, PA—a favorite spot from our Westminster Seminary days. Come reconnect\, share stories\, and enjoy good food and drink with friends\, both old and new. Whether you’re a long-time listener\, supporter\, or just curious about Reformed theology\, we’d love to see you there. No formal agenda—just fellowship and fun in a place that holds great memories.    Please RSVP    
URL:https://reformedforum.org/event/philadelphia-area-meetup-2024-09/
LOCATION:Union Jack’s Olde Glory Pub\, 2750 Limekiln Pike\, Glenside\, PA\, 19038\, United States
CATEGORIES:Meetup
ATTACH;FMTTYPE=image/jpeg:https://reformedforum.org/wp-content/blogs.dir/1/files/2024/08/union_jacks.jpg
END:VEVENT
BEGIN:VEVENT
DTSTART;TZID=America/Chicago:20240828T190000
DTEND;TZID=America/Chicago:20240828T203000
DTSTAMP:20260419T200650
CREATED:20240828T135625Z
LAST-MODIFIED:20240830T165754Z
UID:45321-1724871600-1724877000@reformedforum.org
SUMMARY:Church Planting and the Ordinary Means of Grace
DESCRIPTION:Joe Cristman\, Neil Quinn\, Chris Hartshorn\, and Eric Watkins will join Camden Bucey for a livestream recording of Christ the Center. The conversation will focus on the theological foundations and practical implications of church planting\, with particular attention to how the ordinary means of grace—Word\, sacrament\, and prayer—play a vital role in the life of the church and the spread of the gospel.  Watch or listen to the recording.
URL:https://reformedforum.org/event/church-planting-and-the-ordinary-means-of-grace/
LOCATION:CO
CATEGORIES:Livestream
ATTACH;FMTTYPE=image/jpeg:https://reformedforum.org/wp-content/blogs.dir/1/files/2015/01/shutterstock_154639625-e1423258271198.jpg
END:VEVENT
BEGIN:VEVENT
DTSTART;TZID=America/Chicago:20240814T110000
DTEND;TZID=America/Chicago:20240814T120000
DTSTAMP:20260419T200650
CREATED:20240808T154900Z
LAST-MODIFIED:20240820T153251Z
UID:45045-1723633200-1723636800@reformedforum.org
SUMMARY:Steadfast Savior: Unveiling the Immutable Mediator in Hebrews
DESCRIPTION:Dr. Lane G. Tipton presented the profound Christological insights of the book of Hebrews. Dr. Tipton will guide us through the scriptural foundations and doctrinal significance of Christ’s immutability\, revealing how this aspect of the Son provides unwavering assurance to believers.    \nChapters\n\n00:00:00 Introduction\n00:05:56 Steadfast Savior\n00:51:04 Questions & Answers\n01:45:01 Conclusion
URL:https://reformedforum.org/event/steadfast-savior-unveiling-the-immutable-mediator-in-hebrews/
LOCATION:CO
CATEGORIES:Webinar
ATTACH;FMTTYPE=image/png:https://reformedforum.org/wp-content/blogs.dir/1/files/2024/07/Modern-Online-Webinar-Presentation.png
END:VEVENT
END:VCALENDAR