BEGIN:VCALENDAR
VERSION:2.0
PRODID:-//Reformed Forum - ECPv6.15.20//NONSGML v1.0//EN
CALSCALE:GREGORIAN
METHOD:PUBLISH
X-ORIGINAL-URL:https://reformedforum.org
X-WR-CALDESC:Events for Reformed Forum
REFRESH-INTERVAL;VALUE=DURATION:PT1H
X-Robots-Tag:noindex
X-PUBLISHED-TTL:PT1H
BEGIN:VTIMEZONE
TZID:America/Chicago
BEGIN:DAYLIGHT
TZOFFSETFROM:-0600
TZOFFSETTO:-0500
TZNAME:CDT
DTSTART:20240310T080000
END:DAYLIGHT
BEGIN:STANDARD
TZOFFSETFROM:-0500
TZOFFSETTO:-0600
TZNAME:CST
DTSTART:20241103T070000
END:STANDARD
BEGIN:DAYLIGHT
TZOFFSETFROM:-0600
TZOFFSETTO:-0500
TZNAME:CDT
DTSTART:20250309T080000
END:DAYLIGHT
BEGIN:STANDARD
TZOFFSETFROM:-0500
TZOFFSETTO:-0600
TZNAME:CST
DTSTART:20251102T070000
END:STANDARD
BEGIN:DAYLIGHT
TZOFFSETFROM:-0600
TZOFFSETTO:-0500
TZNAME:CDT
DTSTART:20260308T080000
END:DAYLIGHT
BEGIN:STANDARD
TZOFFSETFROM:-0500
TZOFFSETTO:-0600
TZNAME:CST
DTSTART:20261101T070000
END:STANDARD
END:VTIMEZONE
BEGIN:VEVENT
DTSTART;TZID=America/Chicago:20250131T190000
DTEND;TZID=America/Chicago:20250201T160000
DTSTAMP:20260419T120413
CREATED:20250117T152502Z
LAST-MODIFIED:20250201T140900Z
UID:46892-1738350000-1738425600@reformedforum.org
SUMMARY:Faith and Life Conference (Scottsdale\, AZ)
DESCRIPTION:Hosted by Providence Orthodox Presbyterian Church\nDates: January 31 – February 1\, 2025\nLocation: Providence OPC\, Scottsdale\, AZ \nProvidence Orthodox Presbyterian Church in Scottsdale\, Arizona is hosting a weekend conference on the glory and importance of corporate worship. Through four engaging sessions and a special Friday evening hymn sing\, we’ll explore the biblical foundations and Reformed theological distinctives of worship\, equipping you to worship God with greater understanding and joy. \nSchedule of Events\nFriday\, January 31\, 7:00 PM — Hymn Sing & Fellowship\nJoin us Friday evening for a hymn sing that unites the Reformed and like-minded churches in the Valley. Local pastors will introduce their favorite hymns\, sharing brief reflections on their significance\, as we lift our voices together in worship. Afterward\, enjoy a time of extended fellowship to connect with brothers and sisters from other congregations. \nSaturday\, February 1\, 1:00 PM – 4:00 PM — Conference Sessions\nSaturday features four theological talks that unpack the significance of corporate worship\, led by Jonathan L. Cruse and Camden Bucey. These sessions will deepen our understanding of the heavenly realities we enter into during worship and the way God shapes us through it. \n\nTalk 1: The What of Worship (Cruse)\nThe most important thing we do because we meet with God.\nWorship is not simply a human activity but a divine appointment. This session explores the essential nature of worship as an encounter with the Triune God.\nTalk 2: The Where of Worship (Bucey)\nThe spiritual\, heavenly realities of corporate worship.\nWhen the church gathers\, it does so in the presence of God and his heavenly host. This talk explains the spiritual dimension of worship\, helping us grasp the cosmic significance of this sacred act.\nTalk 3: The Shape of Worship (Cruse)\nHow worship should be structured to structure us as believers.\nReformed liturgy is rooted in Scripture\, reflecting God’s design for worship. This session examines how the elements of worship shape our faith and lives.\nTalk 4: The How of Worship (Bucey)\nPreparing for and participating in worship.\nHow do we approach worship in a way that honors God and nourishes our souls? This practical session offers biblical guidance on preparing our hearts and minds for corporate worship.\n\n  \nMore information at Providence OPC.
URL:https://reformedforum.org/event/faith-and-life-conference-scottsdale-az/
LOCATION:Providence Orthodox Presbyterian Church\, 7575 E. Redfield Rd. #101\, Scottsdale\, AZ\, 85260\, United States
CATEGORIES:Conference,Featured
ATTACH;FMTTYPE=image/jpeg:https://reformedforum.org/wp-content/blogs.dir/1/files/2025/01/pexels-jeremy-alford-211956852-12370436.jpg
END:VEVENT
END:VCALENDAR