BEGIN:VCALENDAR
VERSION:2.0
PRODID:-//Reformed Forum - ECPv6.15.20//NONSGML v1.0//EN
CALSCALE:GREGORIAN
METHOD:PUBLISH
X-WR-CALNAME:Reformed Forum
X-ORIGINAL-URL:https://reformedforum.org
X-WR-CALDESC:Events for Reformed Forum
REFRESH-INTERVAL;VALUE=DURATION:PT1H
X-Robots-Tag:noindex
X-PUBLISHED-TTL:PT1H
BEGIN:VTIMEZONE
TZID:America/Denver
BEGIN:DAYLIGHT
TZOFFSETFROM:-0700
TZOFFSETTO:-0600
TZNAME:MDT
DTSTART:20240310T090000
END:DAYLIGHT
BEGIN:STANDARD
TZOFFSETFROM:-0600
TZOFFSETTO:-0700
TZNAME:MST
DTSTART:20241103T080000
END:STANDARD
BEGIN:DAYLIGHT
TZOFFSETFROM:-0700
TZOFFSETTO:-0600
TZNAME:MDT
DTSTART:20250309T090000
END:DAYLIGHT
BEGIN:STANDARD
TZOFFSETFROM:-0600
TZOFFSETTO:-0700
TZNAME:MST
DTSTART:20251102T080000
END:STANDARD
BEGIN:DAYLIGHT
TZOFFSETFROM:-0700
TZOFFSETTO:-0600
TZNAME:MDT
DTSTART:20260308T090000
END:DAYLIGHT
BEGIN:STANDARD
TZOFFSETFROM:-0600
TZOFFSETTO:-0700
TZNAME:MST
DTSTART:20261101T080000
END:STANDARD
END:VTIMEZONE
BEGIN:VEVENT
DTSTART;TZID=America/Denver:20250503T100000
DTEND;TZID=America/Denver:20250503T140000
DTSTAMP:20260419T082021
CREATED:20250110T221744Z
LAST-MODIFIED:20250110T221744Z
UID:46804-1746266400-1746280800@reformedforum.org
SUMMARY:Canyons' Spring Conference
DESCRIPTION:Lane Tipton will speak on the theme of “Heaven” at Canyons Community Church’s Spring Conference in Castle Rock\, CO on May 3. Conference attendees are welcome to return for Lord’s Day worship the following day to hear Dr. Tipton preach the Word. Registration is free on the church website.
URL:https://reformedforum.org/event/canyons-spring-conference/
LOCATION:Canyons Community Church\, 4825 Crowfoot Valley Rd\, Castle Rock\, CO\, 80108\, United States
CATEGORIES:Conference
ATTACH;FMTTYPE=image/jpeg:https://reformedforum.org/wp-content/blogs.dir/1/files/2025/01/Copy-of-Canyons-Spring-Conference-2025.jpg
END:VEVENT
END:VCALENDAR